BEGIN:VCALENDAR
VERSION:2.0
PRODID:-//Katherine Haine - ECPv6.3.1//NONSGML v1.0//EN
CALSCALE:GREGORIAN
METHOD:PUBLISH
X-WR-CALNAME:Katherine Haine
X-ORIGINAL-URL:https://katherinehaine.com
X-WR-CALDESC:Events for Katherine Haine
REFRESH-INTERVAL;VALUE=DURATION:PT1H
X-Robots-Tag:noindex
X-PUBLISHED-TTL:PT1H
BEGIN:VTIMEZONE
TZID:America/Toronto
BEGIN:DAYLIGHT
TZOFFSETFROM:-0500
TZOFFSETTO:-0400
TZNAME:EDT
DTSTART:20250309T070000
END:DAYLIGHT
BEGIN:STANDARD
TZOFFSETFROM:-0400
TZOFFSETTO:-0500
TZNAME:EST
DTSTART:20251102T060000
END:STANDARD
END:VTIMEZONE
BEGIN:VEVENT
DTSTART;VALUE=DATE:20250905
DTEND;VALUE=DATE:20250908
DTSTAMP:20260423T171751
CREATED:20250925T204526Z
LAST-MODIFIED:20250925T205222Z
UID:211-1757030400-1757289599@katherinehaine.com
SUMMARY:Bayfield Yoga Fusion & Wellness Weekend
DESCRIPTION:Back by popular demand! \nYoga Wellness Weekend\nHosted by The ASHWOOD INN – September 5 – 7\, 2025\n​We’re heading back to Bayfield – Join us for a Full Moon Celebration! \n\nExperience four varieties of Yoga\, including a Grounding Earth Elements Class\, Full Moon Yoga Vinyasa\, Guided Meditation\, Chakra Flow with Singing Bowl\, Yin & BreathWork. \nAlso included \n\nForest walk\, Aqua Zumba\nPaint your own Mandala\nOptional hike on the Beach\nBonfire & more\n\n​Reserve your spot – limited rooms available.\n(maximum 20 participants) \nTwo nights – $439.74 per person (Double Occupancy – two Queen Beds)\nTwo nights – $636.22 Private Room (single Occupancy – one Queen Bed)\nAlso available: One Night packages! \nBook directly with the Ashwood Inn\n​519-565-4444 \n \nExperience the beauty of Bayfield\, which is famous for its historic centre\, boutique shops\, sandy beach\, and stunning sunsets over Lake Huron. \nPrice includes two nights at The Ashwood Inn and 4 Yoga Classes. \nEnjoy an exclusive Mandala Painting Session\, Beach hike\, Aqua Zumba\, Meditation Forest Walk\, Bonfire. \nFriday evening Meet & Greet & Earth Elements Yoga Class\n(Friday dinner on your own – choose the town of Bayfield\, or dine at the Ashwood Inn)\nAll Rooms have fridges. \nIncluded \n\nSaturday & Sunday Buffet Breakfast\nSaturday Evening Buffet Dinner\n\nTentative Schedule \n\nFriday\, September 5th\n4:30 pm – Earth Elements Yoga Flow with Barb\nEvening – dinner on your own\, enjoy the town of Bayfield\nOptional Sunset Beach Walk\nSaturday\, September 6th\n(schedule still to be determined)\n8:15 am Morning Chakra Yoga Flow class with Katherine\n9:30 am Breakfast\n11 am Painting session – design your personalized Mandala with Hina\nFree time to visit the town of Bayfield (lunch on your own)\, or use the pool\, Forest Walk or Beach.\nShop on-site with Natural Nation (crystals/essence oils & more)\n2:00 PM Yoga Flow with Barb\n3:00 pm – Yin Yoga & Breathwork with Heather\n4:30 pm Aqua Zumba Class with Sarah\n6 pm – Meet & greet (cocktails not included)\,\nDinner at 6:30 pm\nBonfire\nSunday\, September 7th\n(exact times TBA)\n8 am Special 90-minute Full Moon Yoga class taught by\nBarb & Katherine & Heather.\n9:30 am Buffet Breakfast\n\n(Bring your own Mat. Yoga classes are held outside in the grass (“weather permitting”) \nDrop in pricing available – $25.00 for one class\, or $65.00 for all yoga sessions.\n(Drop-ins for any classes held inside may be limited) \nJoin us!\nThe Ashwood\n519-565-4444\nwww.theashwood.com \nArrive early on Friday and explore the area.\nCheck-in is 2 pm\nCheck-out time is 11 am on Sunday
URL:https://katherinehaine.com/event/bayfield-yoga-fusion-wellness-weekend/
CATEGORIES:Wellness,Yoga
ATTACH;FMTTYPE=image/png:https://katherinehaine.com/wp-content/uploads/2025/08/full-moon-yoga-retreat-1_orig.png
ORGANIZER;CN="The Ashwood Inn":MAILTO:info@theashwood.com
END:VEVENT
END:VCALENDAR